BEGIN:VCALENDAR
VERSION:2.0
PRODID:-//www.gracecoalcenter.org//NONSGML kigkonsult.se iCalcreator 2.39.1
 //
CALSCALE:GREGORIAN
METHOD:PUBLISH
UID:73088284-209f-4425-9657-57ea7f9862ba
X-WR-CALNAME:www.gracecoalcenter.org
X-WR-CALDESC:www.gracecoalcenter.org
X-WR-TIMEZONE:America/Los_Angeles
X-LIC-LOCATION:America/Los_Angeles
BEGIN:VEVENT
UID:d6f0b759-7736-4cac-800c-c1ab07380fd3
DTSTAMP:20260425T122520Z
CLASS:PUBLIC
DTSTART;TZID=America/Los_Angeles:20260425T090000
DTEND;TZID=America/Los_Angeles:20260425T120000
SUMMARY:VBS
TRANSP:OPAQUE
BEGIN:VALARM
ACTION:DISPLAY
DESCRIPTION:VBS
TRIGGER:-PT15M
END:VALARM
END:VEVENT
END:VCALENDAR
